BEGIN:VCALENDAR
VERSION:2.0
PRODID:-//ddaysoftware.com//NONSGML DDay.iCal 1.0//EN
BEGIN:VEVENT
DESCRIPTION:Monthly meeting for IGFOA Parnters Forum
DTSTAMP:20260423T193912
DTSTART:20140729T080000
LOCATION:online and conference call
SEQUENCE:0
SUMMARY:Partners Forum meeting
UID:5e383ad6-b6b5-4c5f-afc7-6403a19b0d75
END:VEVENT
END:VCALENDAR
