BEGIN:VCALENDAR
VERSION:2.0
PRODID:-//ddaysoftware.com//NONSGML DDay.iCal 1.0//EN
BEGIN:VEVENT
DESCRIPTION:This lunch meeting will be an open forum discussion on any subj
 ect(s) that the group participants would like to discuss.   The price is $
 17 per person. Anyone interested in attending should RSVP to Megan at mpet
 ersen@eastmoline.com and also provide her with your meal selection (in ord
 er to avoid delays in getting the food to everyone). 
DTEND:20141001T140000
DTSTAMP:20260421T024908
DTSTART:20141001T120000
LOCATION:Short Hills Country Club\, 2500 - 11th Street\, East Moline\, IL
SEQUENCE:0
SUMMARY:Quad Cities Region Quarterly Credit Crunch
UID:3ceaeda6-e0a4-4e22-92f2-d4798d68f627
END:VEVENT
END:VCALENDAR
