BEGIN:VCALENDAR
VERSION:2.0
PRODID:-//ddaysoftware.com//NONSGML DDay.iCal 1.0//EN
BEGIN:VEVENT
DESCRIPTION:Illinois Section AWWA invites IGFOA members to June 17th Practi
 cal Asset Management: Best Practices for Small & Large Systems \n**SPECIAL
  DISOUNT FOR IGFOA MEMBERS: $35.00** when you use promotional code: **IGFO
 A** when registering online for this event (if registering via paper form\
 , simply write code on flyer)\nDetails and registration at http://www.isaw
 wa.org/event/06-17-14
DTEND:20140617T120000
DTSTAMP:20260419T230304
DTSTART:20140617T080000
LOCATION:Illinois Section AWWA\, 535 South Randall Road\, St. Charles\, IL
SEQUENCE:0
SUMMARY:ISAWWA Practical Asset Management: Best Practices for Small & Large
  Systems
UID:4f5630f2-c710-433c-82f4-1a51426adfff
END:VEVENT
END:VCALENDAR
