BEGIN:VCALENDAR
VERSION:2.0
PRODID:-//ddaysoftware.com//NONSGML DDay.iCal 1.0//EN
BEGIN:VEVENT
DESCRIPTION:Intended Audience:  IGFOA TARC Committee Members.  Interested i
 n participating in the TARC Committee\, contact the IGFOA at execdir@igfoa
 .org.\nDescriptions:  The Technical Accounting Review Committee monitors a
 nd comments on activities and rulings of the Governmental Accounting Stand
 ards Board (GASB). The committee provides testimony on GASB standards and 
 educates the IGFOA membership on those standards.\nLearning Objectives:\n\
 nUnderstand and comment on the most recent GASB statements and exposure dr
 afts\nExpand your familiarity of GASB implementation and financial reporti
 ng challenges faced by local governments in Illinois through direct intera
 ction with fellow accounting and finance professionals\n\nTARC will be rev
 iewing and commenting on four (4) GASB Exposure Drafts that all have an Au
 gust comment deadline:\n\n\n\nFair Value Measurement and Application\nAcco
 unting and Financial Reporting for Postemployment Benefits Other Than Pens
 ions\nFinancial Reporting for Postemployment Benefit Plans Other Than Pens
 ion Plans\nAccounting and Financial Reporting for Pensions and Financial R
 eporting for Pension Plans That Are Not Administered Through Trusts That M
 eet Specified Criteria\, and Amendments to Certain Provisions of GASB Stat
 ements 67 and 68\n\n\n\nDelivery method: Group-Live\nProgram Level: advanc
 ed\nPrerequisites: IGFOA TARC Committee Member\nAdvanced Preparation: Revi
 ew and Be Prepared to Comment on the above Exposure Drafts\nEarn about 3.0
  CPE\nIf you have any questions regarding this seminar\, cancellations\, c
 omplaints\, or refunds\, please contact the IGFOA at 630-942-6587 or info@
 igfoa.org
DTEND:20140806T160000
DTSTAMP:20260424T010728
DTSTART:20140806T133000
LOCATION:IGFOA\, 800 Roosevelt Road\, Glen Ellyn\, IL 60137
SEQUENCE:0
SUMMARY:Technical Accounting Review Committee
UID:63cd5ffd-185c-45e5-b0d4-4ef15d37af5f
END:VEVENT
END:VCALENDAR
