BEGIN:VCALENDAR
VERSION:2.0
PRODID:-//ddaysoftware.com//NONSGML DDay.iCal 1.0//EN
BEGIN:VEVENT
DESCRIPTION:Join us for an informational conversation over lunch the topic 
 will be what information is on the finance department pages on our website
 \, how financial information is stored and convey (e.g. - pdf links\, info
 rmation repositories\, interactive graphs / charts\, etc.)  What options a
 re available to users?  E.g. - Online checkbooks\, regularly updated budge
 t documents\, etc.)  It is an opportunity to network and to compare notes 
 on how we convey our information to our external users.\nLearning Objectiv
 es \, participants completing this program should be able to\n* Discuss fi
 nancial information commonly shared on local government websites* Identify
  at least one unique approach to displaying financial information on-line\
 n Intended Audience: Local government finance officers and staff\, treasur
 ers\, managers\, and administrators .\nDelivery method: Group LiveProgram 
 Level: OverviewPrerequisites: No prerequisites required Advanced Preparati
 on: No advanced preparation requiredEarn about 1.0 CPE credit\n 
DTEND:20140731T130000
DTSTAMP:20260419T174815
DTSTART:20140731T110000
LOCATION:Jims Steakhouse\, 110 SW Jefferson St\, Peoria\, IL 61602
SEQUENCE:0
SUMMARY:Financial Information on Municipal Websites - Central Illinois Regi
 onal meeting
UID:707bdb6f-111f-4641-8c1f-0f644229e155
END:VEVENT
END:VCALENDAR
