BEGIN:VCALENDAR
VERSION:2.0
PRODID:-//ddaysoftware.com//NONSGML DDay.iCal 1.0//EN
BEGIN:VEVENT
DESCRIPTION:Description\nThe Downstate Chapter of IGFOA invites you to part
 icipate in a very informative and fun Fall Conference.  Come check out the
  new hotel and economic initiatives in Champaign.  The Downstate Fall Conf
 erence focuses on sharpening local government professionals’ skills in ide
 ntifying analyzing revenue trends\, understanding economic development cha
 llenges and financial opportunities\, and sharpening management and leader
 ship skills.Intended audience: Finance Directors\, Assistant Finance Direc
 tors\, Managers\, and Supervisors\nLearning objectives\nParticipants that 
 complete this conference should be able to:\n\nExplain the assumptions and
  trends that affect CPPRT and LGDF monies for Illinois local governments\n
 Navigate web resources to gather information about local government financ
 e policies and practices\nDefine tax interruption insurance and determine 
 if it is recommended for their government\nIdentify key economic developme
 nt trends in Illinois and the possible financial impacts\nPlan how to enga
 ge a multi-generational staff team in accomplishing departmental goals\nId
 entify key problem resolution approaches and how to apply those approaches
  in the workplace\n\nDelivery method:          Group-LiveProgram Level:   
              IntermediatePrerequisites:                  No prerequisites 
 requiredAdvanced Preparation: No advanced preparation requiredCPE Credit: 
                       Earn about 9.5 hours CPE credit\nLocation: \nHyatt P
 lace - Champaign\n217 N. Neil Street\, Champaign\, IL 61820\nA block of ov
 ernight rooms has been reserved for the night of November 13\, 2014 by IGF
 OA at the discounted rate of $129.00 per night\, plus tax\, for single and
  double occupancy.  Please reserve your room at http://champaign.place.hya
 tt.com/cmizcgigfo2014.html or by calling 217-531-2800 and asking for the I
 GFOA rate.
DTEND:20141114T120000
DTSTAMP:20260420T120210
DTSTART:20141113T101500
LOCATION:Hyatt Place\, 217 N. Neil\, Champaign\, IL 61820
SEQUENCE:0
SUMMARY:Downstate Fall Conference
UID:be8d4210-c443-4f51-959e-c1ec8f5a40ed
END:VEVENT
END:VCALENDAR
