BEGIN:VCALENDAR
VERSION:2.0
PRODID:-//ddaysoftware.com//NONSGML DDay.iCal 1.0//EN
BEGIN:VEVENT
DESCRIPTION:IGFOA Downstate Chapter Southern Region Luncheon \nSpeaker: Kri
 sti Stephenson\, State Comptrollers Office \nAttendees will order from the
  menu.Please RSVP by 6/19/15
DTEND:20150625T133000
DTSTAMP:20260425T232113
DTSTART:20150625T120000
LOCATION:The Gathering Place\, 217 W Main Street\, Salem\, IL
SEQUENCE:0
SUMMARY:IGFOA Downstate Chapter Southern Region Luncheon
UID:79e3b5c4-d878-41cf-a447-2f3488f513e4
END:VEVENT
END:VCALENDAR
