BEGIN:VCALENDAR
VERSION:2.0
PRODID:-//ddaysoftware.com//NONSGML DDay.iCal 1.0//EN
BEGIN:VEVENT
DESCRIPTION:The IGFOA Assistants' Network will meet on November 20\, 2014 f
 rom 12:00 - 1:30 PM at two locations:\n Village of Woodridge5 Plaza DriveW
 oodridge\, IL 60517(2nd floor training room)The Packinghouse441 Mulberry S
 tGalesburg IL 61401Come to discuss your recent challenges and successes as
  we exchange information about local government finance practices. Lunch p
 rovided. 
DTEND:20141120T133000
DTSTAMP:20260422T205651
DTSTART:20141120T120000
LOCATION:Woodridge and Galesburg - select location
SEQUENCE:0
SUMMARY:Fall Meeting - Galesburg
UID:523ca023-51c9-438d-9af6-4fe9afa10721
END:VEVENT
END:VCALENDAR
