BEGIN:VCALENDAR
VERSION:2.0
PRODID:-//ddaysoftware.com//NONSGML DDay.iCal 1.0//EN
BEGIN:VEVENT
DESCRIPTION:REGISTRATION IS CLOSED FOR THE IGFOA CHICAGO METRO AND SOUTH CH
 APTER HOLIDAY LUNCHEON!  \nTHE EVENT IS FULL AND WALK-INS WILL NOT BE ACCE
 PTED
DTEND:20141205T000000
DTSTAMP:20260423T015334
DTSTART:20141205T000000
LOCATION:
SEQUENCE:0
SUMMARY:REGISTRATION CLOSED - Chicago Metro and South Metro Holiday Luncheo
 n - NO WALK-INS
UID:919870c0-d91d-4579-80b7-564671672ad8
END:VEVENT
END:VCALENDAR
