BEGIN:VCALENDAR
VERSION:2.0
PRODID:-//ddaysoftware.com//NONSGML DDay.iCal 1.0//EN
BEGIN:VEVENT
DESCRIPTION:IGFOA members - Stay connected to your peers by participating i
 n a virtual roundtable discussion! There is no fee but advance registratio
 n is required.\nJoin a small group of IGFOA members via GoToMeeting to dis
 cuss concerns and share information. Moderator Rita Trainor with the Wheat
 on Park District will lead discussions focused on Park Districts.\nPlease 
 note that registration for each session is limited. IGFOA will email instr
 uctions with a link to access the meeting.     
DTEND:20200501T150000
DTSTAMP:20260425T120034
DTSTART:20200501T140000
LOCATION:
SEQUENCE:0
SUMMARY:IGFOA Virtual Roundtables – Park District Finance Professionals
UID:aae7095f-75ac-4ec8-823d-9daed3613610
END:VEVENT
END:VCALENDAR
