BEGIN:VCALENDAR
VERSION:2.0
PRODID:-//ddaysoftware.com//NONSGML DDay.iCal 1.0//EN
BEGIN:VEVENT
DESCRIPTION:IGFOA members - Stay connected to your peers by participating i
 n a virtual roundtable discussion! There is no fee but advance registratio
 n is required.\nJoin a small group of IGFOA members via GoToMeeting to dis
 cuss concerns and share information. Moderator John Harrington with the Vi
 llage of Minooka will lead discussions focused on Non Home Rule Communitie
 s.\nPlease note that registration for each session is limited. IGFOA will 
 email instructions with a link to access the meeting.  
DTEND:20200428T120000
DTSTAMP:20260424T163427
DTSTART:20200428T110000
LOCATION:
SEQUENCE:0
SUMMARY:IGFOA Virtual Roundtable – Non Home Rule Communities
UID:d2770747-cc9c-4552-84b0-973aa2140c2d
END:VEVENT
END:VCALENDAR
