BEGIN:VCALENDAR
VERSION:2.0
PRODID:-//ddaysoftware.com//NONSGML DDay.iCal 1.0//EN
BEGIN:VEVENT
DESCRIPTION:IGFOA members - Stay connected to your peers by participating i
 n a virtual roundtable discussion! There is no fee but advance registratio
 n is required.\nJoin a small group of IGFOA members via GoToMeeting to dis
 cuss concerns and share information. Moderator Elizabeth Holleb with the C
 ity of Lake Forest (pop\, 19\,375) will lead discussions focused on Small 
 and Medium Communities.\nPlease note that registration for each session is
  limited. IGFOA will email instructions with a link to access the meeting.
   
DTEND:20200429T120000
DTSTAMP:20260425T115933
DTSTART:20200429T110000
LOCATION:
SEQUENCE:0
SUMMARY:IGFOA Virtual Roundtable – Small and Medium Communities
UID:3e7213d7-e41f-4617-82f4-058a061f4faa
END:VEVENT
END:VCALENDAR
