BEGIN:VCALENDAR
VERSION:2.0
PRODID:-//ddaysoftware.com//NONSGML DDay.iCal 1.0//EN
BEGIN:VEVENT
DESCRIPTION:IGFOA members - Stay connected to your peers by participating i
 n a virtual roundtable discussion! There is no fee but advance registratio
 n is required.\nJoin a small group of IGFOA members via GoToMeeting to dis
 cuss concerns and share information. Moderator Rita Kruse with the City of
  Geneva will lead discussions focused on Small and Medium Communities.\n  
 IGFOA will email instructions with a link to access the meeting.  
DTEND:20200508T120000
DTSTAMP:20260421T152552
DTSTART:20200508T110000
LOCATION:
SEQUENCE:0
SUMMARY:IGFOA Virtual Roundtable – Small and Medium Communities
UID:bac77d10-81ee-4d23-841b-8be7bf3fc7fc
END:VEVENT
END:VCALENDAR
