BEGIN:VCALENDAR
VERSION:2.0
PRODID:-//ddaysoftware.com//NONSGML DDay.iCal 1.0//EN
BEGIN:VEVENT
DESCRIPTION:  Click here to register\n
DTEND:20200811T110000
DTSTAMP:20260420T143427
DTSTART:20200811T100000
LOCATION:
SEQUENCE:0
SUMMARY:Automation as Part  of Your Business  Resiliency Plan
UID:59864d04-fd13-4e2a-be4e-bab0f816b7cd
END:VEVENT
END:VCALENDAR
