BEGIN:VCALENDAR
VERSION:2.0
PRODID:-//ddaysoftware.com//NONSGML DDay.iCal 1.0//EN
BEGIN:VEVENT
DESCRIPTION:IGFOA members - Stay connected to your peers by participating i
 n a virtual roundtable discussion! There is no fee but advance registratio
 n is required.\nJoin a small group of IGFOA members via GoToMeeting to dis
 cuss concerns and share information. Moderator Sandy Evans - with the City
  of O'Fallon will lead discussions focused on Downstate Communities.\nPlea
 se note that registration for each session is limited. IGFOA will email in
 structions with a link to access the meeting.  
DTEND:20200626T110000
DTSTAMP:20260423T031159
DTSTART:20200626T100000
LOCATION:
SEQUENCE:0
SUMMARY:IGFOA Virtual Roundtable – Downstate Communities
UID:40f7d2ec-0b18-49b7-86a2-c085d85ce275
END:VEVENT
END:VCALENDAR
