BEGIN:VCALENDAR
VERSION:2.0
PRODID:-//ddaysoftware.com//NONSGML DDay.iCal 1.0//EN
BEGIN:VEVENT
DESCRIPTION:IGFOA members - Stay connected to your peers by participating i
 n a virtual roundtable discussion! There is no fee but advance registratio
 n is required.\nJoin a small group of IGFOA members via GoToMeeting to dis
 cuss concerns and share information. Moderator Rita Kruse - with the City 
 of Geneva will lead discussions focused on Small to Medium Communities.\nP
 lease note that registration for each session is limited. IGFOA will email
  instructions with a link to access the meeting.  
DTEND:20200625T150000
DTSTAMP:20260419T200856
DTSTART:20200625T140000
LOCATION:
SEQUENCE:0
SUMMARY:IGFOA Virtual Roundtable – Small to Medium Communities
UID:a73b31f5-6af5-4981-bcd5-e24af6b5b5df
END:VEVENT
END:VCALENDAR
