BEGIN:VCALENDAR
VERSION:2.0
PRODID:-//ddaysoftware.com//NONSGML DDay.iCal 1.0//EN
BEGIN:VEVENT
DESCRIPTION:Registration is now open for the 2020 IGFOA Annual Business Mee
 ting on Monday\, September 21\, 2020 at 10AM. The meeting will be held vir
 tually using the GoToWebinar platform. Registration is free. \nCLICK THE L
 INK BELOW TO REGISTER! \nhttps://attendee.gotowebinar.com/register/5234961
 086666379279\nAfter registering\, you will receive a confirmation email co
 ntaining information about joining the webinar. To fully participate\, you
  must be able to login to GoToWebinar\, unmute yourself\, and utilize the 
 hand raising function on the control panel. Thank you.\nClick here to down
 load the following meeting handouts:\n\nAgenda\nAnnual Business Meeting Mi
 nutes 9.9.2019\nFinancial Statements (unaudited)\nBylaw Changes\n2020-2021
  Executive Board Slate\n
DTEND:20200921T113000
DTSTAMP:20260425T125915
DTSTART:20200921T100000
LOCATION:
SEQUENCE:0
SUMMARY:2020 IGFOA Virtual Annual Business Meeting
UID:c6c271a6-51d8-4ef9-805a-19b902f7477f
END:VEVENT
END:VCALENDAR
