BEGIN:VCALENDAR
VERSION:2.0
PRODID:-//ddaysoftware.com//NONSGML DDay.iCal 1.0//EN
BEGIN:VEVENT
DESCRIPTION:Registration for the TEST ONLY WEBINAR is open for Executive Bo
 ard Members and Professional Education Committee Members ONLY.  The TEST O
 NLY Webinar for the upcoming 2020 IGFOA Annual Business Meeting will be he
 ld on Tuesday\, September 1\, 2020 from 3PM-4PM. If you are available to j
 oin us\, please CLICK THE LINK BELOW TO REGISTER! \nhttps://register.gotow
 ebinar.com/register/1919598177680915982\nAfter registering\, you will rece
 ive a confirmation email containing information about joining the webinar.
  To fully participate\, you must be able to login to GoToWebinar\, unmute 
 yourself\, and utilize the hand raising function on the control panel. Tha
 nk you.
DTEND:20200901T160000
DTSTAMP:20260420T143910
DTSTART:20200901T150000
LOCATION:
SEQUENCE:0
SUMMARY:TEST ONLY WEBINAR #2 | 2020 IGFOA Annual Business Meeting | TEST ON
 LY WEBINAR 
UID:b9333d7d-65ec-4caa-9865-c0e52ecc87ae
END:VEVENT
END:VCALENDAR
