BEGIN:VCALENDAR
VERSION:2.0
PRODID:-//ddaysoftware.com//NONSGML DDay.iCal 1.0//EN
BEGIN:VEVENT
DESCRIPTION:The Illinois Public Employer Labor Relations Association (IPELR
 A) is offering a free webinar on the ECONOMICS OF COVID on Wednesday\, Nov
 ember 18\, 2020 from 10 AM - 11 AM. \nMEET THE COVID PRESS!\nWhat do Nikki
  Larson\, Jim Norris\, and Heidi Voorhees have in common? IPELRA! These th
 ree impressive speakers are the fantastic panelists virtually meeting with
  host Megan Fulara to discuss the financial\, management and organizationa
 l impacts of COVID on government entities. \nWHAT DO THEY BRING TO THE TAB
 LE?\n\nExperience in management during a recession and restoring solidarit
 y to an entity\;\nFinancial insight on the future effects on our agencies\
 ; and\nProviding successful guidance on keeping an organization functionin
 g. \n\nTo register and receive access information for the webinar\, please
  click the link below:\nCLICK HERE TO REGISTER!
DTEND:20201118T110000
DTSTAMP:20260420T141704
DTSTART:20201118T100000
LOCATION:
SEQUENCE:0
SUMMARY:IPELRA WEBINAR | ECONOMICS OF COVID 
UID:282204d8-e604-442d-93bb-4e9ed2a69fdc
END:VEVENT
END:VCALENDAR
