BEGIN:VCALENDAR
VERSION:2.0
PRODID:-//ddaysoftware.com//NONSGML DDay.iCal 1.0//EN
BEGIN:VEVENT
DESCRIPTION:Join us as we celebrate the season of giving and cheer with the
  South Metro\, Downstate\, and Chicago Metro Chapters! \n\nGIVING\nAs is t
 heir annual tradition\, the South Metro Chapter Board has chosen a charity
  to support in the spirit of this giving season.  This year\, the board ha
 s chosen to support the Northern Illinois Food Bank. For online donations\
 , the Northern Illinois Food Bank has created a virtual food drive for the
  South Metro Chapter. \nPlease use the link\, https://secure.qgiv.com/even
 t/foodandfunddrive/donate/\, click on "Search for a participant or team" a
 nd enter IGFOA South Metro in the search field to apply your donation to t
 he South Metro Chapter fundraising goal.\nCHEER\nThe South Metro\, Downsta
 te\, and Chicago Metro Chapter Boards invite you to attend a friendly comp
 etition presented by Thrillhouse Trivia!  Grab your thinking caps or maybe
  your Santa hats\, and prepare for a 3-round trivia challenge. The trivia 
 game will take place virtually at Thrillhousetrivia.com. The game will inc
 lude video of the host and embedded chats for all participants and teams. 
 Prior to the event\, registrants will be emailed login credentials and ins
 tructions. \nThis event is for Illinois GFOA members only. The cost is fre
 e. 
DTEND:20201211T150000
DTSTAMP:20260422T170354
DTSTART:20201211T130000
LOCATION:800 E Roosevelt Road\, Building C\, Suite 312\, Glen Ellyn\, IL 60
 137
SEQUENCE:0
SUMMARY:South Metro\, Downstate & Chicago Metro Chapter Holiday Social Even
 t
UID:0bcd75d1-2a92-4ec3-a022-f468e6e47d32
END:VEVENT
END:VCALENDAR
