BEGIN:VCALENDAR
VERSION:2.0
PRODID:-//ddaysoftware.com//NONSGML DDay.iCal 1.0//EN
BEGIN:VEVENT
DESCRIPTION:January 19\, 2021\, 10:00 AM – 11:00 AM\nthis is a FREE webinar
  hosted by the IAMMA Next Generation Committee\n \nJoin IAMMA colleagues t
 o hear and learn from diversity\, equity\, and inclusion advocates and exp
 erts discuss what local governments are doing to develop DE&I programs for
  their organizations. Get tips on community partnerships\, toolkits\, and 
 how you can be prepared when you are asked by your manager or administrato
 r to “look into his and get back to me!”\n CLICK HERE TO REGISTER TODAY!
DTEND:20210119T110000
DTSTAMP:20260424T082343
DTSTART:20210119T100000
LOCATION:
SEQUENCE:0
SUMMARY:Annual IAMMA Professional Development Seminar " Leadership from the
  Second Chair"
UID:3267665b-a241-4f3d-b137-ff6e3fd9d299
END:VEVENT
END:VCALENDAR
