BEGIN:VCALENDAR
VERSION:2.0
PRODID:-//ddaysoftware.com//NONSGML DDay.iCal 1.0//EN
BEGIN:VEVENT
DESCRIPTION:Plan to attend the 2021 Finance Professional Academy Webinar Se
 ries - Back to Basics!  See below for an overview of the topics to be pres
 ented. To view the complete agenda and session items\, please click the li
 nk below.\nAgenda\, Session Descriptions\, Speakers\, and Learning Objecti
 ves Day 1:  Tuesday\, April 20\, 2021\nSession 1:  11 AM - 12 PM - Debt 10
 1: Issuing Bonds\nSession Description: Panelists will discuss the borrowin
 g options\, steps and general timeline\, and parties involved in a typical
  bond transaction in Illinois.\nSpeakers:  Dalena Welkomer\, Senior Vice P
 resident\, Baird Public Finance\, Lisa Petersen\, Director of Finance\, Vi
 llage of Schaumburg\, Raphaliata McKenzie\, Senior Vice President\, Speer 
 Financial\, Inc.\, and Seema Patel\, Senior Counsel\, Chapman and Cutler L
 LP\nProgram Level - OverviewField of Study - Finance - TechnicalNASBA CPE 
 Credits: Earn about 1.0 CPE credits\nSession 2:  1 PM - 2:30 PM - A Primer
  on Public Budgeting for Local Governments\nSession Description:  This ses
 sion will present an overview of what public budgeting is and isn’t.  The 
 speaker will discuss the difference between private and public sector budg
 eting\, budget laws and their origins\, the types of budgets\, what consti
 tutes a successful budget\, and how to make budgets more accessible to all
  stakeholders.\nSpeaker:  Julie Zolghadr\, Budget Division Manager\, City 
 of Springfield\nProgram Level - OverviewField of Study - Finance - Technic
 alNASBA CPE Credits: Earn about 1.5 CPE credits\nDay 2:  Wednesday\, April
  21\, 2021\nSession 3:  11 AM - 12 PM - Banking 101\nSession Description: 
 This session will provide a broad overview of banking services.  The speak
 ers will discuss the RFP process\, collateral requirements and investment 
 policy\, traditional banking products\, new electronic banking products an
 d fraud protection.\nSpeakers:  Laura Mishlove\, Sr. Vice President\, Publ
 ic Finance\, PNC Bank and Joseph Howell\, Treasury Management Officer\, Vi
 ce President\, Public Finance\, PNC Bank\nProgram Level - OverviewField of
  Study - Finance - TechnicalNASBA CPE Credits: Earn about 1.0 CPE credits\
 nSession 4:  1 PM - 2:30 PM - Governmental Accounting Overview\nSession De
 scription: This session will provide a high-level overview of the basic as
 pects of governmental accounting. The speaker will explore the theory behi
 nd accounting principles and discuss the fundamentals of fund accounting.\
 nSpeaker:  Brian LeFevre\, Partner\, Sikich LLP\nProgram Level - OverviewF
 ield of Study - Accounting (Governmental) - TechnicalNASBA CPE Credits: Ea
 rn about 1.5 CPE credits\nDelivery Method:  Group Internet Based\nProgram 
 Level:  See above sessions\nPrerequisites:  No prerequisites required\nAdv
 anced Preparation: No advanced preparation required\nField of Study:  See 
 above sessions\nNASBA CPE Credits: Earn about 5.0 CPE credits\nIGFOA reser
 ves the right to modify the agenda\, sessions\, and speakers.
DTEND:20210421T143000
DTSTAMP:20260421T041643
DTSTART:20210420T110000
LOCATION:
SEQUENCE:0
SUMMARY:2021 Finance Professionals Academy Webinar Series - Back to Basics
UID:664cbb0d-7cc3-499e-a8d0-d8c22999521c
END:VEVENT
END:VCALENDAR
