BEGIN:VCALENDAR
VERSION:2.0
PRODID:-//ddaysoftware.com//NONSGML DDay.iCal 1.0//EN
BEGIN:VEVENT
DESCRIPTION:The IGFOA Chicago Metro Chapter and Growth & Engagement Network
  Present The Following Webinar!\nSo\, you made it through the first half o
 f the pandemic\, and in this one (1) hour webinar you will learn how to re
 main strong through the second half. Gather your co-workers and gain some 
 tips on how to survive the rest of the pandemic. In this dynamic presentat
 ion\, Joyce Marter will discuss key strategies you can use to build resili
 ence during COVID-19 and continue to succeed both personally and professio
 nally. After attending this session\, you will gain empirically proven too
 ls from mindfulness practices and cognitive behavioral therapy.\nLearning 
 Objectives:  Participants completing this session will be able to:\n1) pro
 mote your mental health and wellbeing\,\n2) improve your communication and
  reduce conflict in your relationships\, and\,\n3) practice self-care and 
 self-compassion to foster resilience on your road to success. \nSpeaker: J
 oyce Marter\, LCPC\, National Keynote Speaker | CEO\, Joyce Marter Enterpr
 ises\, Inc.\nIntended Audience: Finance ProfessionalsDelivery Method: Inte
 rnet BasedProgram Level: OverviewPrerequisites: No prerequisites requiredA
 dvanced Preparation: No advanced preparation requiredField of Study: Perso
 nal Development - Non-TechnicalNASBA CPE: Earn About 1.0 CPE credit\n 
DTEND:20210624T130000
DTSTAMP:20260422T152625
DTSTART:20210624T120000
LOCATION:
SEQUENCE:0
SUMMARY:Chicago Metro Chapter & GEN Sponsors: Building Resilience During CO
 VID Webinar
UID:96249bf0-7248-4cfc-8905-218fde551907
END:VEVENT
END:VCALENDAR
