BEGIN:VCALENDAR
VERSION:2.0
PRODID:-//ddaysoftware.com//NONSGML DDay.iCal 1.0//EN
BEGIN:VEVENT
DESCRIPTION:GFOA’s federal advocacy efforts in Washington include interpret
 ing federal legislation and applying it at the local level. Throughout the
  COVID-19 pandemic\, GFOA’s efforts in Washington\, D.C.\, have included a
 dvocacy to federal legislators to draft and pass the American Rescue Plan 
 Act of 2021 and other infrastructure efforts as well as to members of the 
 administration in their implementation efforts. Join this session to liste
 n and discuss how the federal efforts have impacted local communities and 
 to prepare for what’s ahead. \nModerators:  Emily Swenson Brock\, Director
 \, GFOA’s Federal Liaison Center in Washington\, D.C.\, Andrew D. Brown\, 
 Assistant Finance Director\, Village of Tinley Park\nThere is no cost to a
 ttend . When registering as a member or member colleague\, please mark che
 ck when prompted to pay. 
DTEND:20210512T123000
DTSTAMP:20260421T013113
DTSTART:20210512T113000
LOCATION:
SEQUENCE:0
SUMMARY:Free IGFOA Roundtable: 2021 Federal Updates - Infrastructure and AR
 PA Implementation
UID:6c2c00aa-468b-4650-80b8-e86060100826
END:VEVENT
END:VCALENDAR
