BEGIN:VCALENDAR
VERSION:2.0
PRODID:-//ddaysoftware.com//NONSGML DDay.iCal 1.0//EN
BEGIN:VEVENT
DESCRIPTION:Join us for a basic discussion regarding the roles that your Mu
 nicipal Advisor and your Bond Registrar\, Paying Agent and Escrow Agent pl
 ay in your bond financing from inception to closing date.  Andrew Kim of P
 MA Securities will describe his role as a municipal advisor\, as well as m
 any of the other roles that may be included in a financing. He will also o
 utline the process of a financing\, highlighting all major steps required 
 to issue your bonds.\nAnd Christine Linde Miller of Amalgamated Bank of Ch
 icago will fill you in on all the processes and acronyms used in the autom
 ated world of the Bond Registrar\, Paying Agent and Escrow Agent.  Attend 
 to learn a little history of how our roles have evolved over the last 30 y
 ears.\nThere is no cost to attend . When registering as a member or member
  colleague\, please mark check if prompted to pay. \n\n
DTEND:20210805T130000
DTSTAMP:20260421T031407
DTSTART:20210805T120000
LOCATION:
SEQUENCE:0
SUMMARY:Free IGFOA Virtual Roundtable: Calling All Bond Issuers!
UID:1a5283dc-626d-4fea-8e90-347a5c7c1c21
END:VEVENT
END:VCALENDAR
