BEGIN:VCALENDAR
VERSION:2.0
PRODID:-//ddaysoftware.com//NONSGML DDay.iCal 1.0//EN
BEGIN:VEVENT
DESCRIPTION:In partnership with the Midwest Association of Public Procureme
 nt (MAPP)\, IGFOA members are invited to attend the FOIA for Public Bodies
  webinar at no cost. \nThe Public Access Bureau in the Illinois Attorney G
 eneral's Office will present a webinar on the Freedom of Information Act (
 FOIA) for Public Bodies.  The webinar will address the definition of publi
 c records\, frequently used exemptions\, unduly burdensome requests\, and 
 deadlines. The webinar will also discuss the Public Access Counselor (PAC)
  review process and common issues reported by the PAC. Leah Bartelt\, Depu
 ty Public Access Counselor\, will present the webinar on behalf of the Pub
 lic Access Bureau. Leah has worked in the Public Access Bureau since Janua
 ry 2015\, and frequently presents educational programs to FOIA officers\, 
 public officials\, and public employees.\nTo register\, please click here.
  \n
DTEND:20210721T120000
DTSTAMP:20260422T171018
DTSTART:20210721T100000
LOCATION:
SEQUENCE:0
SUMMARY:Free FOIA for Public Bodies Webinar
UID:b978ae9e-ba3e-4a86-9010-115478f845ae
END:VEVENT
END:VCALENDAR
