BEGIN:VCALENDAR
VERSION:2.0
PRODID:-//ddaysoftware.com//NONSGML DDay.iCal 1.0//EN
BEGIN:VEVENT
DESCRIPTION:The meeting will take place at the Doubletree Suites Hotel in t
 he Maple Room and the Luncheon will be held in the Oak/Sycamore Room.\nWhe
 ther you have taken Academy  I or II in the past\, the newly revised two d
 ay Academy II course will provide a detailed understanding of major local 
 government revenues and expenditures\, an appreciation of forecasting both
  revenues and expenditures\, and knowledge of other responsibilities for w
 hich the Finance Department may be responsible. The Academy II will provid
 e professionals throughout Illinois with the opportunity to participate in
  high quality education in a small\, student-focused setting. Academy II p
 articipants also engage in networking opportunities to strengthen professi
 onal development.\nSCHEDULE OF SESSIONS - CLICK HERELEARNING OBJECTIVES: a
 fter attending the IGFOA Academy II course\, participants should be able t
 o:\n\nIdentify major revenues and expenditures and how to forecast them\nE
 xplain what goes into a cash flow analysis\nUnderstand what additional res
 ponsibilities the Finance Director may have\nConnect with peers to gather 
 information about practices in other communities\n\nWho Should Attend:\n\n
 Finance Department personnel seeking a better understanding of the governm
 ent revenue and expenditure budget process\, cash flow fundamentals\, and 
 non-finance responsibilities often found in Finance Departments.\nNon-fina
 nce professionals such as department heads and assistant department heads\
 , whose primary duties are related to budgeting and/or cash flow analysis.
 \nGovernment accounting\, auditing\, and finance professionals who have li
 mited experience in government finance but require a general knowledge of 
 governmental budgeting\, cash flow analysis\, and the non-finance responsi
 bilities of a local government Finance Department.\n\nPrerequisites: at le
 ast 1 year's experience or completion of Level I Academy or equivalent tra
 iningAdvanced preparation required: No advanced preparation required. If y
 ou have a budget document\,  please bring it to the Academy II.Delivery me
 thod: Group-liveCPE program level: BasicField of Study: Finance\, Business
  Management and OrganizationCPE credits at Level II Academy: About 14 CPE 
 hours\n Are overnight rooms available? Participants are encouraged to rese
 rve a room at the Doubletree in Downers Grove or any one of the nearby hot
 els that can be found through the DuPage Convention and Visitors Bureau.\n
DTEND:20151029T163000
DTSTAMP:20260425T173839
DTSTART:20151028T090000
LOCATION:Doubletree Suites Hotel and Conference Center\, 2111 Butterfield R
 oad\, Downers Grove\, IL 60515
SEQUENCE:0
SUMMARY:Illinois Government Finance Professionals' Academy II - 2015
UID:cff2e1a5-2af3-40d1-a7e5-723c462e0c55
END:VEVENT
END:VCALENDAR
