BEGIN:VCALENDAR
VERSION:2.0
PRODID:-//ddaysoftware.com//NONSGML DDay.iCal 1.0//EN
BEGIN:VEVENT
DESCRIPTION:This training will teach participants about what constitutes se
 xual harassment in the workplace and how it can be identified\, reported a
 nd prevented. This will be accomplished through a review of applicable law
  and practical examples of the various forms that sexual harassment can ta
 ke in the workplace. Participants will be tasked with thinking critically 
 about real life situations and apply the legal principles and procedural r
 eporting requirements designed to prevent sexual harassment from occurring
  or stopping it from continuing. The course satisfies the new sexual haras
 sment training requirements under Illinois law.\nLearning Objectives:  Par
 ticipants completing this session will be able to:\n1.       Gain an under
 standing of the general legal principles related to sexual harassment.2.  
      Obtain an understanding of what constitutes sexual harassment in the 
 workplace.3.       Learn how to identify sexual harassment in workplace.4.
        Learn applicable reporting procedures for complaints of sexual hara
 ssment.5.       Review strategies for preventing sexual harassment.\nSpeak
 er:  Jason A. Guisinger\, Partner\, Klein\, Thorpe & Jenkins\nIntended Aud
 ience: Finance ProfessionalsDelivery Method: Internet BasedProgram Level: 
 OverviewPrerequisites: No prerequisites requiredAdvanced Preparation: No a
 dvanced preparation requiredField of Study: Business Law - TechnicalNASBA 
 CPE: Earn About 1.0 CPE credit
DTEND:20210901T130000
DTSTAMP:20260425T125925
DTSTART:20210901T120000
LOCATION:
SEQUENCE:0
SUMMARY:Identifying\, Reporting and Preventing Sexual Harassment in the Wor
 kplace
UID:a70f0139-a9ac-4312-81f5-93755b0d7ba0
END:VEVENT
END:VCALENDAR
