BEGIN:VCALENDAR
VERSION:2.0
PRODID:-//ddaysoftware.com//NONSGML DDay.iCal 1.0//EN
BEGIN:VEVENT
DESCRIPTION:You're invited to join the Southern and Southwest Regions for a
 n in-person lunch and learn!  \nThis session will give an overview of rece
 nt changes in the banking sector\, such as liquidity injections in the eco
 nomy\, slowed loan demand\, and more stringent capital requirements. The s
 peaker will outline how to go about evaluating banks by highlighting resou
 rces available online and statistics to consider\, as well as identifying 
 firms that do such evaluations for free and for a fee. Lastly\, the speake
 r will provide a banking RFP and checklist for attendees to take with them
 .\nLearning Objectives:  Participants completing this session will be able
  to:\n\nUnderstand the impact of recent events on the banking sector and t
 heir potential consequences on public agency investment programs and polic
 ies\nGain an understanding of how to consider the condition of a given ban
 k and what factors to look for\nLearn about a few key statistics\, such as
  Texas Ratio\nLearn where to look online to gather data that goes into ban
 k evaluations\nLearn what firms provide bank evaluation services \n\nSpeak
 er:  Sofia Anastopoulos\, CFA\, Executive Director\, IMET\n \nIntended Aud
 ience: Finance ProfessionalsDelivery Method: Group LiveProgram Level: Over
 viewPrerequisites: No prerequisites requiredAdvanced Preparation: No advan
 ced preparation requiredField of Study: Finance -TechnicalNASBA CPE: Earn 
 About 1.0 CPE credit
DTEND:20211022T130000
DTSTAMP:20260420T013451
DTSTART:20211022T113000
LOCATION:J.J. Thermos\, 17 East Gate Plaza \, East Alton\, Illinois 62024
SEQUENCE:0
SUMMARY:Southern & Southwest Regions Lunch & Learn: Evaluating Banks Today
UID:925d8cc5-fd92-4f4d-baf2-2bd821db4455
END:VEVENT
END:VCALENDAR
