BEGIN:VCALENDAR
VERSION:2.0
PRODID:-//ddaysoftware.com//NONSGML DDay.iCal 1.0//EN
BEGIN:VEVENT
DESCRIPTION:This session will present an analysis of the various issues inv
 olved with an Illinois City or Village closing out of a TIF upon expiratio
 n.  An overview of the issues involved\, procedures\, and legal issues inv
 olved will be discussed.   \nLearning Objectives:  Participants completing
  this session will be able to:\n1. Gain an understanding of the issues inv
 olved and required procedures with closing out an expiring tax increment f
 inance district.\n2. Become aware of finance strategies for paying project
 \, administration\, or other costs.\n3. Learn the potential pitfalls for f
 ailing to follow procedures. \n4. Become aware of potential finance opport
 unities. \nSpeakers:  James Snyder\, Partner\, Ice Miller LLP and Philip R
 . McKenna\, President\, Kane\, McKenna and Associates\, Inc.\nIntended Aud
 ience: Finance Professionals\, including Park Districts\, Libraries and Sp
 ecial DistrictsDelivery Method: Internet BasedProgram Level: OverviewPrere
 quisites: General knowledge of TIFs Advanced Preparation: No advanced prep
 aration requiredField of Study: Finance -TechnicalNASBA CPE: Earn About 1.
 0 CPE credit
DTEND:20211110T130000
DTSTAMP:20260422T205721
DTSTART:20211110T120000
LOCATION:
SEQUENCE:0
SUMMARY:Local Government: Closing Out of Expiring Tax Increment Finance (TI
 F) Districts - Issues\, Procedures\, and Strategies
UID:c56a7822-fd95-44e2-b4e6-d9b3d3a98d22
END:VEVENT
END:VCALENDAR
