BEGIN:VCALENDAR
VERSION:2.0
PRODID:-//ddaysoftware.com//NONSGML DDay.iCal 1.0//EN
BEGIN:VEVENT
DESCRIPTION:Increasingly\, local governments are looking to pay more vendor
 s with ACH and credit card payments. Hear from Wheaton Park District’s Bet
 hany Meger about their Park District’s experience implementing Paymerang\,
  and how utilizing a third party payment processor can make your AP proces
 ses more efficient and secure. Michael Doerr of Paymerang will share his e
 xpertise and answer any questions from attendees who take part in this int
 eractive discussion! \nThere is no cost to attend. \n\n\n \n\n\n\n\n\n
DTEND:20211118T130000
DTSTAMP:20260421T031024
DTSTART:20211118T120000
LOCATION:
SEQUENCE:0
SUMMARY:Free IGFOA Virtual Roundtable: Unlocking the Door to Vendor Payment
  Efficiency – A Wheaton Park District Roundtable Discussion
UID:a2d56873-725a-4fe0-87af-f406b6e1dcb4
END:VEVENT
END:VCALENDAR
