BEGIN:VCALENDAR
VERSION:2.0
PRODID:-//ddaysoftware.com//NONSGML DDay.iCal 1.0//EN
BEGIN:VEVENT
DESCRIPTION:The IGFOA Growth & Engagement Network (GEN) invites you to join
  them for their next lunch and learn! Are you a leader? Do you know any go
 od leaders? Do you have what it takes to become a better leader? Through s
 eventeen years of city management experience\, six years as a municipal po
 lice officer\, three years in the United States Army\, and an obsession wi
 th leadership development\, our presenter is excited to speak with you abo
 ut how you\, yes you\, can become a better leader with simple easy to empl
 oy techniques as soon as you return to the office.\nLearning Objectives: P
 articipants completing this session will be able to: \n\nUnderstand the tr
 ue meaning of leadership.\nClearly see their leadership role in their orga
 nization\, despite their current title.\nComprehend the significant differ
 ence between the “A-word” and power.\nUnderstand the importance of connect
 ing with others. \nUnderstand what most people crave and know how to give 
 it to them.\nGive out gifts daily to your team members that do not violate
  the Gift Ban Act.\n\nSpeaker: James “Jim” Arndt\, President/CEO of Arndt 
 Municipal Support Inc. \nIntended Audience: Finance ProfessionalsDelivery 
 Method: Group LiveProgram Level: OverviewPrerequisites: No prerequisites r
 equiredAdvanced Preparation: No advance preparation requiredField of Study
 : Personal Development - Non-TechnicalNASBA CPE: Earn about 1.0 CPE Hour\n
 Registration check-in:  11:45 PM - 12:00 PMLuncheon start time:  12:00 PMP
 resentation start time: 12:15 PM
DTEND:20211103T133000
DTSTAMP:20260425T115433
DTSTART:20211103T120000
LOCATION:Reserve 22\, 485 Winchell Way\, Glen Ellyn\, Illinois 60137
SEQUENCE:0
SUMMARY:GEN Lunch & Learn: How to Become a Better Leader in 60 Minutes or L
 ess: Lessons from the Trenches of Local Government Service
UID:cb889f86-76c3-4b6d-9c48-b64f670e55b7
END:VEVENT
END:VCALENDAR
