BEGIN:VCALENDAR
VERSION:2.0
PRODID:-//ddaysoftware.com//NONSGML DDay.iCal 1.0//EN
BEGIN:VEVENT
DESCRIPTION:IGFOA Executive Board Meeting - Location TBD 
DTEND:20220804T113000
DTSTAMP:20260420T104102
DTSTART:20220804T090000
LOCATION:
SEQUENCE:0
SUMMARY:IGFOA Executive Board Meeting
UID:5fe0c647-ce7c-47c4-ad23-37d6266b4747
END:VEVENT
END:VCALENDAR
