BEGIN:VCALENDAR
VERSION:2.0
PRODID:-//ddaysoftware.com//NONSGML DDay.iCal 1.0//EN
BEGIN:VEVENT
DESCRIPTION:The IGFOA South Metro Chapter and the Growth & Engagement Netwo
 rk present a webinar on Managing Difficult Conversations and People.Every 
 conversation is relevant to the participant. Often\, we are looking at det
 ails\, sharing opinions and looking to be heard. Sometimes\, this is unbal
 anced. Ideas or information may be controversial or unpopular.  How do we 
 ensure that we can have impactful conversations when tensions are high\, o
 r outcomes need to happen quickly? How can we be partners and not work fre
 nemies?\n Learning Objectives: Participants completing this session will b
 e able to:\n\nRecognize and practice persuasion and negotiation\;\nReflect
  on ways to minimize defensiveness on both sides\;\nExamine fact vs. story
  and practice reframing\;\nFocus on delivering successful outcomes\; and\n
 Bring out the best in difficult people.\n\nSpeaker: Loren Sanders\, Senior
  Manager of Evolution and Transformation of Learning\, Development and Per
 formance at CVS Health and President of Professional Practice Training and
  ConsultingIntended Audience: All government management & finance professi
 onalsDelivery Method: Group Internet BasedProgram Level: OverviewPrerequis
 ites: No prerequisites requiredAdvanced Preparation: No advanced preparati
 on requiredField of Study: Personal Development - Non-TechnicalLast Review
 /Revision/Update: March 9\, 2022NASBA CPE Credits: Earn About 1.0 CPE cred
 it
DTEND:20220309T130000
DTSTAMP:20260422T205524
DTSTART:20220309T120000
LOCATION:
SEQUENCE:0
SUMMARY:Managing Difficult Conversations and People
UID:b9a63dc2-30d1-4c21-a40f-7a24934e68b9
END:VEVENT
END:VCALENDAR
