BEGIN:VCALENDAR
VERSION:2.0
PRODID:-//ddaysoftware.com//NONSGML DDay.iCal 1.0//EN
BEGIN:VEVENT
DESCRIPTION:The State of Illinois and the Illinois Department of Revenue (I
 DOR) are taking measures to prevent exposure to COVID-19 (Coronavirus). As
  a result\, no in-person Local Tax Allocation Division (LTAD) workshops wi
 ll be held this year.\nLTAD will host an online WebEx workshop on June 15\
 , 2022\, from  9:00 a.m. to 12:00 p.m. This training will be recorded and 
 posted to our website\, for viewing at any time.  \nThe Illinois Departmen
 t of Revenue holds informational workshops to discuss items related to the
  allocation and distribution of taxes to local governments\, including upd
 ates on changes that have happened as well as some exciting news for the f
 uture.  Some of the topics that will be covered include:  Annexations\, Bu
 siness District Taxes\, new Rebate Sharing Agreement reporting\, taxpayer 
 listings\, MyLocalTax\, and new legislation that impacts local governments
 .\nIDOR encourages municipal officials\, county officials\, and their staf
 f members to attend the workshops. Clerks\, treasurers\, fiscal officers\,
  and staff who are responsible for reviewing taxpayer listings are personn
 el who also could benefit from these workshops.\nTo register for a worksho
 p or if there are any questions\, you can:\n\nCall:  217 785-6518 or\nFax:
   217 785-6527 or\nE-mail:  rev.localtax@illinois.gov\n\nPlease provide th
 e following information for each person attending the workshop when you re
 gister:\n\nName\nTitle\nLocal government name\nE-mail address\nAddress\nTe
 lephone number\nWorkshop date and location\n\nMore information can be foun
 d here: https://www2.illinois.gov/rev/localgovernments/Pages/localgovworks
 hop.aspx
DTEND:20220615T120000
DTSTAMP:20260423T070341
DTSTART:20220615T090000
LOCATION:
SEQUENCE:0
SUMMARY:IDOR Local Government Workshops
UID:08a8f2c4-c6e2-494d-8a39-5246501be29b
END:VEVENT
END:VCALENDAR
