BEGIN:VCALENDAR
VERSION:2.0
PRODID:-//ddaysoftware.com//NONSGML DDay.iCal 1.0//EN
BEGIN:VEVENT
DESCRIPTION:Intended Audience:  IGFOA TARC Committee Members.  Interested i
 n participating in the TARC Committee\, contact the IGFOA at execdir@igfoa
 .org.\nDescriptions:  The Technical Accounting Review Committee monitors a
 nd comments on activities and rulings of the Governmental Accounting Stand
 ards Board (GASB). The committee provides testimony on GASB standards and 
 educates the IGFOA membership on those standards.  \nAGENDAA. Completion o
 f Discussion of GASB Exposure Draft Tax Abatement Disclosures (Comments Du
 e January 30\, 2015)B. Status of Additional Outreach/Issues on GASB 67/68 
 (Sub-Committee)C. Discussion of IMET Convenience Fund Liquidating TrustD. 
 Future Discussions/Future Meeting Datesa. GASB PV Leases (Comments Due Mar
 ch 6\, 2015)b. GASB PV Financial Reporting for Fiduciary Responsibilities 
 (Comments Due March 6\, 2015)\nLearning Objectives:\n\nUnderstand and comm
 ent on the most recent GASB statements and exposure drafts\nExpand your fa
 miliarity of GASB implementation and financial reporting challenges faced 
 by localgovernments in Illinois through interaction with fellow accounting
  and finance professionals\n\nDelivery method: Group-LiveProgram Level: ad
 vancedPrerequisites: IGFOA TARC Committee MemberAdvanced Preparation: none
 Earn about 3.0 CPE\nIf you have any questions regarding this seminar\, can
 cellations\, complaints\, or refunds\, please contact the IGFOA at 630-942
 -6587 or info@igfoa.org
DTEND:20150115T160000
DTSTAMP:20260421T030334
DTSTART:20150115T130000
LOCATION:IGFOA Office\, 800 Roosevelt Road\, Building C\, Suite 312\, Glen 
 Ellyn\, IL
SEQUENCE:0
SUMMARY:Technical Accounting Review Committee Meeting
UID:452cc0e7-e3a2-41c7-8284-baf826904415
END:VEVENT
END:VCALENDAR
