BEGIN:VCALENDAR
VERSION:2.0
PRODID:-//ddaysoftware.com//NONSGML DDay.iCal 1.0//EN
BEGIN:VEVENT
DESCRIPTION:IGFOA Executive Board Meeting
DTEND:20151113T140000
DTSTAMP:20260421T030638
DTSTART:20151113T120000
LOCATION:DoubleTree Hotel Collinsville/St. Louis\, 1000 Eastport Plaza Driv
 e\, Collinsville\, IL 62234
SEQUENCE:0
SUMMARY:IGFOA Executive Board Meeting
UID:80d6ee92-b020-4773-89b2-3d58274e886c
END:VEVENT
END:VCALENDAR
