BEGIN:VCALENDAR
VERSION:2.0
PRODID:-//ddaysoftware.com//NONSGML DDay.iCal 1.0//EN
BEGIN:VEVENT
DESCRIPTION:Exchange ideas and solutions during monthly luncheon held the t
 hird Tuesday of each month.\nExecutive Director Diane Gillian Lantz will p
 rovide an IGFOA Update.
DTEND:20150421T133000
DTSTAMP:20260423T193151
DTSTART:20150421T120000
LOCATION:Giovanni's Restaurant\, 610 N Bell School Rd\, Rockford\, IL-USA 6
 1107
SEQUENCE:0
SUMMARY:Rock River Region Networking Luncheon
UID:1c209dcf-1c8b-404c-aec9-6c73cf0706af
END:VEVENT
END:VCALENDAR
