BEGIN:VCALENDAR
VERSION:2.0
PRODID:-//ddaysoftware.com//NONSGML DDay.iCal 1.0//EN
BEGIN:VEVENT
DESCRIPTION:Exchange ideas and solutions during monthly luncheon held the t
 hird Tuesday of each month.\nGuest Speaker\, Andrew Kim\, PMA Financial Ne
 twork\, Inc. will present Key Topics in the Municipal Industry.
DTEND:20150616T130000
DTSTAMP:20260425T154631
DTSTART:20150616T120000
LOCATION:Giovanni's Restaurant\, 610 N Bell School Rd\, Rockford\, IL-USA 6
 1107
SEQUENCE:0
SUMMARY:Rock River Region Networking Luncheon
UID:716ab94f-9c25-41a5-b8c3-8b4869c1f5d2
END:VEVENT
END:VCALENDAR
