BEGIN:VCALENDAR
VERSION:2.0
PRODID:-//ddaysoftware.com//NONSGML DDay.iCal 1.0//EN
BEGIN:VEVENT
DESCRIPTION:Exchange ideas and solutions during monthly luncheon held the t
 hird Tuesday of each month.Guest speaker\, Linda Given\, of Chapman & Cutl
 er LLP will discuss new and pending legislation\, with emphasis on SB 318 
 - Property Tax Extension Limitation Law (PTELL).
DTEND:20151117T130000
DTSTAMP:20260421T054327
DTSTART:20151117T120000
LOCATION:Giovanni's Restaurant\, 610 N Bell School Rd\, Rockford\, IL-USA 6
 1107
SEQUENCE:0
SUMMARY:Rock River Region Networking Luncheon
UID:32c02dd0-07b9-4415-9b66-eb237b403813
END:VEVENT
END:VCALENDAR
