BEGIN:VCALENDAR
VERSION:2.0
PRODID:-//ddaysoftware.com//NONSGML DDay.iCal 1.0//EN
BEGIN:VEVENT
DESCRIPTION:Agenda11:00 AM - Check-in and Networking12:00 PM - Lunch 12:30-
 1:30 PM - Presentation1:30 - 2:00 PM - Networking\nDescription:       What
  is Prudent?  Investing in Today’s Market\nPresenter:          Brian D. He
 xtell\, Vice President\, Chief Credit Officer\, PMA Financial Network\, In
 c\nLearning Objectives – participants completing this seminar should be ab
 le to • Understand IL Investment Statutes• Learn methods to Uncover Invest
 ment Risk• Become familiar with Collateral Considerations• Discuss Investm
 ent Decisions and Execution• Learn how Investment Professionals Can Help  
   \nIntended Audience: All finance professionalsDelivery method: Group Liv
 eProgram Level: OverviewPrerequisites: No prerequisites required Advanced 
 Preparation: No advanced preparation requiredField of Study: FinanceEarn a
 bout 1 CPE credit 
DTEND:20150515T140000
DTSTAMP:20260422T185523
DTSTART:20150515T110000
LOCATION:Village of Vernon Hills\, 290 Evergreen Drive\, Vernon Hills\, IL 
 60061-2999
SEQUENCE:0
SUMMARY:Chicago Metro Chapter - What is Prudent? Investing in Today's Marke
 t
UID:9fe68f46-9055-4b3c-a95f-4ac6caacc606
END:VEVENT
END:VCALENDAR
