BEGIN:VCALENDAR
VERSION:2.0
PRODID:-//ddaysoftware.com//NONSGML DDay.iCal 1.0//EN
BEGIN:VEVENT
DESCRIPTION:Guest Speaker\, Debbie Crabtree\, Sikich LLP \nJoin us for lunc
 h and a presentation and discussion on the Annual Financial Report Filing 
 Requirements. The session will cover the IL Comptrollers Annual Financial 
 Report\, the IL Department of Insurance Annual Statement Reports and the P
 A98-0738 Audit Report Filing Requirements. 
DTEND:20150625T133000
DTSTAMP:20260421T031047
DTSTART:20150625T120000
LOCATION:Woodridge Village Hall\, 5 Plaza Drive (2nd floor training room)\,
  Woodridge\, IL 60517
SEQUENCE:0
SUMMARY:IGFOA Assistants Network Luncheon - Annual Financial Report Filing 
 Requirements
UID:846b8144-f4fd-467b-bf1c-9f7cc7b812bc
END:VEVENT
END:VCALENDAR
