BEGIN:VCALENDAR
VERSION:2.0
PRODID:-//ddaysoftware.com//NONSGML DDay.iCal 1.0//EN
BEGIN:VEVENT
DESCRIPTION:If you are the IGFOA Public Sector Member and would like to reg
 ister staff that are not IGFOA members\, please use the individual's usern
 ame and password\, access the event form\, and select the registrant type 
 "Government Staff Member". If this is the first time that individual is re
 gistering for an IGFOA event\, he/she will not have a username and passwor
 d\, therefore access the on-line form at the IGFOA Website without logging
  in.\nDescription:  Spend the day going over the basics of Governmental Ac
 counting.  You will learn the theory behind accounting principles and the 
 fundamentals of fund accounting.   Check-in and Continental Breakfast is f
 rom 8:00 - 8:30 AM.  Breaks and Lunch are included in the registration fee
 .Intended Audience:  Accountants\, Assistant Managers\, Assistant Finance 
 Directors\, and individuals new to Local Government Accounting. \nLearning
  Objectives: Participants completing this session will be able to:\n\nUnde
 rstand the theories which establish accounting principles\nBe able to reco
 gnize and manipulate key accounting tools such as the Chart of Accounts\nC
 omprehend governmental accounting terminology\nIdentify the links between 
 budgeting and accounting\n\nDelivery method: Group-LiveProgram Level: Basi
 cPrerequisites: No prerequisites requiredAdvanced Preparation: No advanced
  preparation requiredField of Study: Accounting (Governmental)Earn about 7
 .5 CPE Credits\nIGFOA reserves the right to modify the agendas and/or spea
 kers\, cancel the trainings due to low enrollment\, or to close registrati
 on if full. \nInstructors:Brian LeFevre\, Sikich LLPBill Hannah\, Village 
 of North AuroraRachel Musiala\, Village of Hoffman EstatesSessions Include
 :Basic Accounting TheoryDouble Entry AccountingChart of AccountsPrinciples
  of AccountingFund AccountingBasis of AccountingBudgets and Budgetary Acco
 untingClassification and TerminologyFinancial Reporting\nCheck-in and Cont
 inental Breakfast is from 8:00 - 8:30 AM.  Seminar materials\, breaks\, an
 d lunch will be provided. \nHotel Accommodations - http://www.niu.edu/conf
 erenceCenters/naperville/service_amenities/hotel_info/naperville_hotel_map
 _web.pdf
DTEND:20160211T160000
DTSTAMP:20260421T030817
DTSTART:20160211T083000
LOCATION:NIU Naperville\, 1120 E. Diehl Road\, Room 260\, Naperville\, IL 6
 0563
SEQUENCE:0
SUMMARY:IGFOA Basic Governmental Accounting 
UID:79cc552e-1268-4c50-b118-226aa35a5ffa
END:VEVENT
END:VCALENDAR
