BEGIN:VCALENDAR
VERSION:2.0
PRODID:-//ddaysoftware.com//NONSGML DDay.iCal 1.0//EN
BEGIN:VEVENT
DESCRIPTION:Session Description:  Plan to attend the Emerging Issues in ACA
 /HR Compliance Seminar to learn about issues relating to the new Affordabl
 e Care Act Reporting Requirements for 2015 and HR Compliance Issues such a
 s employee versus contractor and exempt vs. non-exempt.  Group discussion 
 will be included so bring your questions for the experts!  Earn about 3 CP
 E credits.Speakers:Debbie Crabtree\, Sikich LLPJennifer Kramer\, Sikich LL
 PLearning Objectives: Participates completing this session will be able to
 :· Learn about the new ACA Reporting Requirements for 2015 including defin
 itions and determining the status of your entity under the new Act· Gain a
  working knowledge for how to comply with the ACA reporting requirements i
 ncluding gathering data\, form preparation and maintaining supporting docu
 mentation· Understanding the recently proposed DOL overtime qualification 
 updates and their potential effect on current exempt and non-exempt positi
 ons within your organization· Overview of the DOL’s interpretation of who 
 qualifies for an unpaid internship\, a new test which may affect how emplo
 yers decide to classify their unpaid interns and the impact on your staffi
 ng decisions\nIntended Audience: All finance professionalsDelivery method:
  Group LiveProgram Level: OverviewPrerequisites: No prerequisites required
  Advanced Preparation: No advanced preparation requiredField of Study: Acc
 ounting (Governmental)\, Administrative PracticeEarn about 3.0 CPE credit 
 Lunch included!
DTEND:20150805T140000
DTSTAMP:20260420T102600
DTSTART:20150805T100000
LOCATION:Uptown Station\, 11 Uptown Circle\, Room 334\, Normal\, IL 61761
SEQUENCE:0
SUMMARY:IGFOA Downstate Chapter Central Region - Emerging Issues in ACA/HR 
 Compliance
UID:e14b32e7-23d7-48b6-9575-372e15063171
END:VEVENT
END:VCALENDAR
