BEGIN:VCALENDAR
VERSION:2.0
PRODID:-//ddaysoftware.com//NONSGML DDay.iCal 1.0//EN
BEGIN:VEVENT
DESCRIPTION:REGISTER TODAY ~ LIMITED SEATING ~ CUTOFF IS 220\nJanuary 15\, 
 2016Harry Caray’s\, 70 Yorktown Center Dr\, Lombard\, IL\nThe Northern Ill
 inois University Center for Governmental Studies Civic Leadership Academy 
 and Illinois City/County Management Association invite you to attend the s
 eventh annual Illinois Financial Forecast Forum: Private Sector Views that
  will Impact the Public Sector on January 15\, 2016 to discuss pertinent e
 conomic and financial issues affecting local governments in Illinois. Join
  us to explore economic conditions and the pressures each exerts on local 
 government fiscal health and gather information to incorporate in your str
 ategic planning\, financial forecasts\, budget development\, and economic 
 development plans.  The day includes Rick Mattoon\, Senior Economist\, Chi
 cago Federal Reserve\, Stephen B. Friedman\, SB Friedman\, Ferhat Zerin\, 
 Gingo Planning and Design\, Ellen Baer and Annmarie Mampe\, Village of Orl
 and Park presenting a multi-faceted session new development concepts for t
 he next real estate cycle\,  C. Kelley Cofer\,  retail specialist\, concur
 rent sessions where you can chose between an manufacturing/industry foreca
 st presented by Jason Horwitz\, Anderson Consulting Group and Brian Tader\
 , Lee & Associations or a hot topics session presented by Kelly Kost\, Cha
 pman and Cutler and Stephan Roberts\, Robert W. Baird.  The day will concl
 ude with an employment outlook presented by Rick Cobb\, Challenger Gray & 
 Christmas.\nCost before Jan. 1:   $99 for first attendee\, $79 for 2nd att
 endee from same organization\, $35 for students \nCost after Jan. 1:      
 $139 for first attendee\, $119 for 2nd attendee from same organization\, $
 45 for students\nLink to Registration: http://registeruo.niu.edu/iebms/wbe
 /wbe_p1_main.aspx?oc=40&cc=WBE4014570\nLink to Flyer:  http://www.outreach
 .niu.edu/outreach/conference/maps/SCHEDULE_FFF%202016_Final.pdf  
DTEND:20160115T163000
DTSTAMP:20260420T133757
DTSTART:20160115T080000
LOCATION:Harry Caray’s\, 70 Yorktown Center Drive\, Lombard\, IL
SEQUENCE:0
SUMMARY:Illinois Financial Forecast Forum: Private Sector Views that will I
 mpact the Public Sector
UID:b9761a9b-9179-41b7-b361-69325544fb79
END:VEVENT
END:VCALENDAR
