BEGIN:VCALENDAR
VERSION:2.0
PRODID:-//ddaysoftware.com//NONSGML DDay.iCal 1.0//EN
BEGIN:VEVENT
DESCRIPTION:IGFOA is excited to offer weekly virtual county roundtables to 
 membership! Roundtables will focus on issues of interest to county governm
 ent members\, but all are welcome to attend.  Please visit the IGFOA calen
 dar to view and register for other upcoming virtual roundtable sessions ho
 sted by the IGFOA on Friday's from 1 PM - 2 PM.  There is no cost to atten
 d. Questions? Contact Kevin Bueso at  KABueso@mchenrycountyil.gov. \nUPCOM
 ING SCHEDULE:\nApril 1 - Pension Obligation Bonds and Investing in a Risin
 g Rate Market  (including ARPA funds) - Stephen Adams\, Director\, Public 
 Finance\, PMA Financial Network\, LLC\, Andrew Kim\, Director\, Public Fin
 ance\, PMA Financial Securities\, LLC and Brian Hextell\, Institutional Po
 rtfolio Manager\, PMA Asset Management\, LLC \nJoin Steve and Andrew for a
 n overview of Pension Obligation Bonds (POBs) that will include defining P
 OBs\,  how they work\,  as well as the benefits and risks of such an issua
 nce. Then Brian will discuss municipal investing (including ARPA funds) in
  a rising rate environment\, such as we are in now. \nApril 8 - GASB 87 - 
 Leases - Timothy J. Gavin\, Principal\, Lauterbach & Amen\, LLP\nJoin Tim 
 Gavin\, Lauterbach & Amen\, for a review of the GASB 87 - Leases\, and the
  types of leases that are subject to the new requirements. Tim will also d
 emonstrate how to prepare the necessary schedules and journal entries usin
 g an Excel template tool. This will be a practical application session so 
 bring your questions!\n\n \n\n\n\n\n\n
DTEND:20220401T140000
DTSTAMP:20260419T213700
DTSTART:20220401T130000
LOCATION:
SEQUENCE:0
SUMMARY:IGFOA Virtual County Roundtable | Pension Obligation Bonds and Inve
 sting in a Rising Rate Market (including ARPA funds)
UID:e95ae273-fae1-4169-8504-b8c6c2fea708
END:VEVENT
END:VCALENDAR
