BEGIN:VCALENDAR
VERSION:2.0
PRODID:-//ddaysoftware.com//NONSGML DDay.iCal 1.0//EN
BEGIN:VEVENT
DESCRIPTION:Join us for a roundtable discussion led by Rockford Park Distri
 ct and Rock Valley College Finance Departments.  How does your purchasing 
 card program compare to your peers? Are there ways to strengthen your curr
 ent program?  We will discuss policies\, administration\, approval process
 \, card limits\, record keeping\, missing receipts and other issues.  Atte
 ndees are invited to bring their purchasing card manuals\, questions and s
 tories about successes and failures.
DTEND:20220419T130000
DTSTAMP:20260424T212324
DTSTART:20220419T120000
LOCATION:Tavern on Clark\, 755 Clark Dr.\, Rockford\, Illinois 61107
SEQUENCE:0
SUMMARY:Rock River Region: Purchasing Cards and Related Policies and Proced
 ures
UID:3aa168e4-fee2-45fc-a824-d1b16b4ab1eb
END:VEVENT
END:VCALENDAR
