BEGIN:VCALENDAR
VERSION:2.0
PRODID:-//ddaysoftware.com//NONSGML DDay.iCal 1.0//EN
BEGIN:VEVENT
DESCRIPTION:Make plans to attend the Southern Region Lunch and Learn and di
 scover new information required to purchase insurance. \nAGENDACheck-in an
 d Networking: 11:30 AM - 11:45 AMLuncheon: 11:45 AMPresentation: 12:00 PM 
 \nPublic entities across the nation began to enter the most challenging an
 d erratic casualty market in over 30 years in 2020. These conditions carri
 ed through 2021 and have reset the marketplace in regards to capacity\, te
 rms\, and rates moving forward. These changes have created a new standard 
 in underwriting data and what is required to ensure your entity has the mo
 st competitive terms and pricing provided. Additionally\, Cyber Liability 
 has become at the forefront of purchasing decisions.\nLearning Objectives:
   Participants completing this session will be able to:\n\nObtain new info
 rmation required to purchase insurance\;\nExplore the tools available to c
 ollect new information\; and\nUnderstand what your peers with the same ris
 k profile are facing.\n\nSpeaker:  Ethan Salsinger\, Area Vice President\,
  Great Lakes Regional Director – Public Sector\,  Arthur J. Gallagher & Co
 .\nIntended Audience: Finance ProfessionalsDelivery Method: Group LiveProg
 ram Level: OverviewPrerequisites: No prerequisites requiredAdvanced Prepar
 ation: No advanced preparation requiredField of Study: Finance - Technical
 Last Review/Revision/Update: July 14\, 2022NASBA CPE Credits: Earn About 1
 .0 CPE credit
DTEND:20220714T130000
DTSTAMP:20260425T115820
DTSTART:20220714T113000
LOCATION:Fletcher's Kitchen & Tap\, 1524 Clinton Hills Pkwy\, Swansea\, IL 
 62226
SEQUENCE:0
SUMMARY:Southern Region Lunch and Learn: Modern World Property & Liability 
 Insurance Purchasing
UID:e50764ab-8d5f-46ed-a38f-b9308a4b8ddc
END:VEVENT
END:VCALENDAR
