BEGIN:VCALENDAR
VERSION:2.0
PRODID:-//ddaysoftware.com//NONSGML DDay.iCal 1.0//EN
BEGIN:VEVENT
DESCRIPTION:Local governments in Cook County could experience up to a six-m
 onth delay in the 2nd installment of property tax collections. Join our ro
 undtable to learn more about the situation and what short-term borrowing a
 lternatives are available to help bridge the gap.\nModerators: Kyle Hardin
 g\, Partner\, Chapman and Cutler LLP\, Stephan Roberts\, Director\, Baird 
 Public Finance\, Dalena Welkomer\, Senior Vice President\, Baird Public Fi
 nance and Larry White\, Partner\, Chapman and Cutler LLP\nThis event is ho
 sted by the Illinois GFOA. There is no cost to attend. When registering as
  a member or member colleague\, please mark check if prompted to pay.\n\n\
 n
DTEND:20220712T110000
DTSTAMP:20260423T082941
DTSTART:20220712T100000
LOCATION:
SEQUENCE:0
SUMMARY:Free IGFOA Virtual Roundtable: Debt Solutions for Cook County’s Del
 ayed 2nd Installment
UID:23ae48f1-3ac6-483b-b0e7-fe7eb641cd38
END:VEVENT
END:VCALENDAR
