BEGIN:VCALENDAR
VERSION:2.0
PRODID:-//ddaysoftware.com//NONSGML DDay.iCal 1.0//EN
BEGIN:VEVENT
DESCRIPTION:Plan to attend the 2022 IGFOA Debt Institute for six sessions d
 esigned to expand your knowledge of municipal debt:\n\nThe latest news fro
 m Springfield\;\nHot topics in public finance\;\nTax Increment Financing (
 TIF)\, including issues relating to expiring TIFs\;\nMunicipal bond market
  update\;\nESG issues for Illinois local governments\; and\nProperty Asses
 sed Clean Energy (PACE) financings.\n\nIn addition to the formal sessions\
 , the day will offer informal networking opportunities\, including a lunch
 eon\, to meet peers and exchange ideas. It is an excellent way to connect 
 and learn from colleagues. The 2022 Debt Institute is our first in-person 
 Debt Institute in four years and won’t be offered again until 2024. So\, b
 e sure to not miss this year’s event!\nAgenda\, Session Descriptions and L
 earning ObjectivesSpeaker Bios\nSession 1:  Illinois Legislative Update\nC
 PE: About 1.0 hours Field of Study: Business Law – Technical Level: Update
 \nSession 2:  Hot Topics in Public Finance\nCPE: About 1.0 hours Field of 
 Study: Finance – Technical Level: Overview\nSession 3:  Tax Increment Fina
 nce: A General Summary of TIF and Issues Related to Expiring TIFs\nCPE: Ab
 out 1.0 hours Field of Study: Finance – Technical Level: Overview\nSession
  4:  Municipal Bond Market Update\nCPE: About 1.5 hours Field of Study: Fi
 nance – Technical Level: Update\nSession 5:  ESG Issues for Illinois Local
  Governments\nCPE: About 1.0 hours Field of Study: Finance – Technical and
  Behavioral Ethics - Non-Technical Level: Basic\nSession 6:  Property Asse
 ssed Clean Energy (PACE) Bond Programs\nCPE: About 1.0 hours Field of Stud
 y: Finance – Technical Level: Overview\nIntended Audience:  Finance Profes
 sionals Delivery method: Group-LiveProgram Level: Refer to abovePrerequisi
 tes: No prerequisites requiredAdvanced Preparation: No advanced preparatio
 n requiredField of Study: Refer to aboveLast Review/Revision/Update: Octob
 er 13\, 2022NASBA CPE Credits: Earn about 6.5 CPE hours\nIGFOA reserves th
 e right to modify the agenda\, sessions\, and speakers.\nAccommodationsNIU
  Naperville is easily accessible from Interstates 88 and 355\, just 27 mil
 es from both O'Hare International Airport and Midway International Airport
 \, and less than five miles from the Metra Train Station. For a list of ho
 tels near NIU Naperville\, visit https://www.niu.edu/conference-event-serv
 ices/where-to-stay/local-hotels/naperville.shtml. 
DTEND:20221013T163000
DTSTAMP:20260425T115923
DTSTART:20221013T083000
LOCATION:NIU Naperville\, 1120 E. Diehl Road\, Naperville\, IL 60563
SEQUENCE:0
SUMMARY:2022 Debt Institute
UID:b49d04c2-4c47-495f-8f3c-168706c531a4
END:VEVENT
END:VCALENDAR
